BEGIN:VCALENDAR
VERSION:2.0
PRODID:-//GBN Systems GmbH - ECPv6.15.20//NONSGML v1.0//EN
CALSCALE:GREGORIAN
METHOD:PUBLISH
X-ORIGINAL-URL:https://www.gbn.de
X-WR-CALDESC:Veranstaltungen für GBN Systems GmbH
REFRESH-INTERVAL;VALUE=DURATION:PT1H
X-Robots-Tag:noindex
X-PUBLISHED-TTL:PT1H
BEGIN:VTIMEZONE
TZID:Europe/Berlin
BEGIN:DAYLIGHT
TZOFFSETFROM:+0100
TZOFFSETTO:+0200
TZNAME:CEST
DTSTART:20240331T010000
END:DAYLIGHT
BEGIN:STANDARD
TZOFFSETFROM:+0200
TZOFFSETTO:+0100
TZNAME:CET
DTSTART:20241027T010000
END:STANDARD
BEGIN:DAYLIGHT
TZOFFSETFROM:+0100
TZOFFSETTO:+0200
TZNAME:CEST
DTSTART:20250330T010000
END:DAYLIGHT
BEGIN:STANDARD
TZOFFSETFROM:+0200
TZOFFSETTO:+0100
TZNAME:CET
DTSTART:20251026T010000
END:STANDARD
BEGIN:DAYLIGHT
TZOFFSETFROM:+0100
TZOFFSETTO:+0200
TZNAME:CEST
DTSTART:20260329T010000
END:DAYLIGHT
BEGIN:STANDARD
TZOFFSETFROM:+0200
TZOFFSETTO:+0100
TZNAME:CET
DTSTART:20261025T010000
END:STANDARD
END:VTIMEZONE
BEGIN:VEVENT
DTSTART;VALUE=DATE:20251118
DTEND;VALUE=DATE:20251122
DTSTAMP:20260421T011203
CREATED:20250327T111400Z
LAST-MODIFIED:20250603T090203Z
UID:12431-1763424000-1763769599@www.gbn.de
SUMMARY:Aussteller auf der Formnext in Frankfurt 2025
DESCRIPTION:Das Thema „3D-Drucker“ ist die letzten Jahre unser Steckenpferd geworden. \nWeltbekannte 3D-Drucker-Hersteller sind unsere Geschäftspartner\, wie z.B. innovatiQ\, 3D-Systems & Kumovis. \nAuf der Formnext finden Anwender neben additiven Produktionssystemen aus allen relevanten Industrien auch Technologien entlang der gesamten Prozesskette. \nSo sind zusätzlich zu innovativen 3D-Druckern für den industriellen Einsatz auch: \n\ndie für ihre Anwendung am besten geeigneten Materialien\,\nAutomatisierungs-Lösungen\nSoftware\, die z.B. den Design-\, Planungs- oder Produktionsprozess unterstützt sowie\nTechnologien für die Nachbearbeitung oder auch die Qualitätskontrolle vertreten.\n\nUnser Vertriebsteam wird auf unserem Messestand anzutreffen sein. \nWir freuen uns\, wenn wir Sie persönlich an unserem „booth“ kennen lernen können! \nSiegfried Foerg\, Mike Selmeier\, Marta Herzigova\, Harry Flint und Veronika Mayr
URL:https://www.gbn.de/termine/aussteller-auf-der-formnext-in-frankfurt-2025/
LOCATION:Messe Frankfurt\, Straße der Nationen\, Frankfurt am Main\, 60326
ATTACH;FMTTYPE=image/jpeg:https://www.gbn.de/wp-content/uploads/2025/03/Formnext-beitragsbild.jpg
END:VEVENT
END:VCALENDAR